Workbook

Sheet Lead Data
B2: [Company Name]
B3: Detailed Leads Tracker
B4: [Date]
B6: Gray cells are calculated for you. You do not need to enter anything in them. | J6: =B2&" CONFIDENTIAL" -> [Company Name] CONFIDENTIAL
B7: Lead Name | C7: Lead Contact | D7: Lead Source | E7: Lead Region | F7: Lead Type | G7: Potential Opportunity | H7: Chance of Sale | I7: Forecast Close | J7: Weighted Forecast
B8: A. Datum Corporation | F8: Strategic | G8: 300000 | H8: 0.9 | I8: January | J8: ='Lead Data'!$G8*'Lead Data'!$H8 -> 270000
B9: Adventure Works | F9: Strategic | G9: 200000 | H9: 0.1 | I9: February | J9: ='Lead Data'!$G9*'Lead Data'!$H9 -> 20000
B10: Alpine Ski House | F10: Tactical | G10: 100000 | H10: 0.2 | I10: March | J10: ='Lead Data'!$G10*'Lead Data'!$H10 -> 20000
J11: ='Lead Data'!$G11*'Lead Data'!$H11 -> 0
J12: ='Lead Data'!$G12*'Lead Data'!$H12 -> 0
J13: ='Lead Data'!$G13*'Lead Data'!$H13 -> 0
J14: ='Lead Data'!$G14*'Lead Data'!$H14 -> 0
J15: ='Lead Data'!$G15*'Lead Data'!$H15 -> 0
J16: ='Lead Data'!$G16*'Lead Data'!$H16 -> 0
J17: ='Lead Data'!$G17*'Lead Data'!$H17 -> 0
J18: ='Lead Data'!$G18*'Lead Data'!$H18 -> 0
J19: ='Lead Data'!$G19*'Lead Data'!$H19 -> 0
J20: ='Lead Data'!$G20*'Lead Data'!$H20 -> 0
J21: ='Lead Data'!$G21*'Lead Data'!$H21 -> 0
J22: ='Lead Data'!$G22*'Lead Data'!$H22 -> 0
... J31: ='Lead Data'!$G31*'Lead Data'!$H31 -> 0
B32: Total | G32: =SUBTOTAL(109,'Lead Data'!$G$8:$G$31) -> 600000 | J32: =SUBTOTAL(109,'Lead Data'!$J$8:$J$31) -> 310000

Sheet Forecasted Sales 
B2: ='Lead Data'!B2 -> [Company Name]
B3: Detailed Leads Tracker
B4: ='Lead Data'!B4 -> [Date]
B6: Gray cells are calculated for you. You do not need to enter anything in them. | N6: =B2&" CONFIDENTIAL" -> [Company Name] CONFIDENTIAL
B7: Lead name | C7: January Forecast | D7: February Forecast | E7: March Forecast | F7: April Forecast | G7: May Forecast | H7: June Forecast | I7: July Forecast | J7: August Forecast | K7: September Forecast | L7: October Forecast | M7: November Forecast | N7: December Forecast
B8: =IF('Lead Data'!B8 <> "", 'Lead Data'!B8, "") -> A. Datum Corporation | C8: =IF('Lead Data'!$I8 = "January",'Lead Data'!$J8,0) -> 270000 | D8: =IF('Lead Data'!$I8 = "February",'Lead Data'!$J8,0) -> 0 | E8: =IF('Lead Data'!$I8 = "March",'Lead Data'!$J8,0) -> 0 | F8: =IF('Lead Data'!$I8 = "April",'Lead Data'!$J8,0) -> 0 | G8: =IF('Lead Data'!$I8 = "May",'Lead Data'!$J8,0) -> 0 | H8: =IF('Lead Data'!$I8 = "June",'Lead Data'!$J8,0) -> 0 | I8: =IF('Lead Data'!$I8 = "July",'Lead Data'!$J8,0) -> 0 | J8: =IF('Lead Data'!$I8 = "August",'Lead Data'!$J8,0) -> 0 | K8: =IF('Lead Data'!$I8 = "September",'Lead Data'!$J8,0) -> 0 | L8: =IF('Lead Data'!$I8 = "October",'Lead Data'!$J8,0) -> 0 | M8: =IF('Lead Data'!$I8 = "November",'Lead Data'!$J8,0) -> 0 | N8: =IF('Lead Data'!$I8 = "December",'Lead Data'!$J8,0) -> 0
B9: =IF('Lead Data'!B9 <> "", 'Lead Data'!B9, "") -> Adventure Works | C9: =IF('Lead Data'!$I9 = "January",'Lead Data'!$J9,0) -> 0 | D9: =IF('Lead Data'!$I9 = "February",'Lead Data'!$J9,0) -> 20000 | E9: =IF('Lead Data'!$I9 = "March",'Lead Data'!$J9,0) -> 0 | F9: =IF('Lead Data'!$I9 = "April",'Lead Data'!$J9,0) -> 0 | G9: =IF('Lead Data'!$I9 = "May",'Lead Data'!$J9,0) -> 0 | H9: =IF('Lead Data'!$I9 = "June",'Lead Data'!$J9,0) -> 0 | I9: =IF('Lead Data'!$I9 = "July",'Lead Data'!$J9,0) -> 0 | J9: =IF('Lead Data'!$I9 = "August",'Lead Data'!$J9,0) -> 0 | K9: =IF('Lead Data'!$I9 = "September",'Lead Data'!$J9,0) -> 0 | L9: =IF('Lead Data'!$I9 = "October",'Lead Data'!$J9,0) -> 0 | M9: =IF('Lead Data'!$I9 = "November",'Lead Data'!$J9,0) -> 0 | N9: =IF('Lead Data'!$I9 = "December",'Lead Data'!$J9,0) -> 0
B10: =IF('Lead Data'!B10 <> "", 'Lead Data'!B10, "") -> Alpine Ski House | C10: =IF('Lead Data'!$I10 = "January",'Lead Data'!$J10,0) -> 0 | D10: =IF('Lead Data'!$I10 = "February",'Lead Data'!$J10,0) -> 0 | E10: =IF('Lead Data'!$I10 = "March",'Lead Data'!$J10,0) -> 20000 | F10: =IF('Lead Data'!$I10 = "April",'Lead Data'!$J10,0) -> 0 | G10: =IF('Lead Data'!$I10 = "May",'Lead Data'!$J10,0) -> 0 | H10: =IF('Lead Data'!$I10 = "June",'Lead Data'!$J10,0) -> 0 | I10: =IF('Lead Data'!$I10 = "July",'Lead Data'!$J10,0) -> 0 | J10: =IF('Lead Data'!$I10 = "August",'Lead Data'!$J10,0) -> 0 | K10: =IF('Lead Data'!$I10 = "September",'Lead Data'!$J10,0) -> 0 | L10: =IF('Lead Data'!$I10 = "October",'Lead Data'!$J10,0) -> 0 | M10: =IF('Lead Data'!$I10 = "November",'Lead Data'!$J10,0) -> 0 | N10: =IF('Lead Data'!$I10 = "December",'Lead Data'!$J10,0) -> 0
B11: =IF('Lead Data'!B11 <> "", 'Lead Data'!B11, "") | C11: =IF('Lead Data'!$I11 = "January",'Lead Data'!$J11,0) -> 0 | D11: =IF('Lead Data'!$I11 = "February",'Lead Data'!$J11,0) -> 0 | E11: =IF('Lead Data'!$I11 = "March",'Lead Data'!$J11,0) -> 0 | F11: =IF('Lead Data'!$I11 = "April",'Lead Data'!$J11,0) -> 0 | G11: =IF('Lead Data'!$I11 = "May",'Lead Data'!$J11,0) -> 0 | H11: =IF('Lead Data'!$I11 = "June",'Lead Data'!$J11,0) -> 0 | I11: =IF('Lead Data'!$I11 = "July",'Lead Data'!$J11,0) -> 0 | J11: =IF('Lead Data'!$I11 = "August",'Lead Data'!$J11,0) -> 0 | K11: =IF('Lead Data'!$I11 = "September",'Lead Data'!$J11,0) -> 0 | L11: =IF('Lead Data'!$I11 = "October",'Lead Data'!$J11,0) -> 0 | M11: =IF('Lead Data'!$I11 = "November",'Lead Data'!$J11,0) -> 0 | N11: =IF('Lead Data'!$I11 = "December",'Lead Data'!$J11,0) -> 0
B12: =IF('Lead Data'!B12 <> "", 'Lead Data'!B12, "") | C12: =IF('Lead Data'!$I12 = "January",'Lead Data'!$J12,0) -> 0 | D12: =IF('Lead Data'!$I12 = "February",'Lead Data'!$J12,0) -> 0 | E12: =IF('Lead Data'!$I12 = "March",'Lead Data'!$J12,0) -> 0 | F12: =IF('Lead Data'!$I12 = "April",'Lead Data'!$J12,0) -> 0 | G12: =IF('Lead Data'!$I12 = "May",'Lead Data'!$J12,0) -> 0 | H12: =IF('Lead Data'!$I12 = "June",'Lead Data'!$J12,0) -> 0 | I12: =IF('Lead Data'!$I12 = "July",'Lead Data'!$J12,0) -> 0 | J12: =IF('Lead Data'!$I12 = "August",'Lead Data'!$J12,0) -> 0 | K12: =IF('Lead Data'!$I12 = "September",'Lead Data'!$J12,0) -> 0 | L12: =IF('Lead Data'!$I12 = "October",'Lead Data'!$J12,0) -> 0 | M12: =IF('Lead Data'!$I12 = "November",'Lead Data'!$J12,0) -> 0 | N12: =IF('Lead Data'!$I12 = "December",'Lead Data'!$J12,0) -> 0
B13: =IF('Lead Data'!B13 <> "", 'Lead Data'!B13, "") | C13: =IF('Lead Data'!$I13 = "January",'Lead Data'!$J13,0) -> 0 | D13: =IF('Lead Data'!$I13 = "February",'Lead Data'!$J13,0) -> 0 | E13: =IF('Lead Data'!$I13 = "March",'Lead Data'!$J13,0) -> 0 | F13: =IF('Lead Data'!$I13 = "April",'Lead Data'!$J13,0) -> 0 | G13: =IF('Lead Data'!$I13 = "May",'Lead Data'!$J13,0) -> 0 | H13: =IF('Lead Data'!$I13 = "June",'Lead Data'!$J13,0) -> 0 | I13: =IF('Lead Data'!$I13 = "July",'Lead Data'!$J13,0) -> 0 | J13: =IF('Lead Data'!$I13 = "August",'Lead Data'!$J13,0) -> 0 | K13: =IF('Lead Data'!$I13 = "September",'Lead Data'!$J13,0) -> 0 | L13: =IF('Lead Data'!$I13 = "October",'Lead Data'!$J13,0) -> 0 | M13: =IF('Lead Data'!$I13 = "November",'Lead Data'!$J13,0) -> 0 | N13: =IF('Lead Data'!$I13 = "December",'Lead Data'!$J13,0) -> 0
B14: =IF('Lead Data'!B14 <> "", 'Lead Data'!B14, "") | C14: =IF('Lead Data'!$I14 = "January",'Lead Data'!$J14,0) -> 0 | D14: =IF('Lead Data'!$I14 = "February",'Lead Data'!$J14,0) -> 0 | E14: =IF('Lead Data'!$I14 = "March",'Lead Data'!$J14,0) -> 0 | F14: =IF('Lead Data'!$I14 = "April",'Lead Data'!$J14,0) -> 0 | G14: =IF('Lead Data'!$I14 = "May",'Lead Data'!$J14,0) -> 0 | H14: =IF('Lead Data'!$I14 = "June",'Lead Data'!$J14,0) -> 0 | I14: =IF('Lead Data'!$I14 = "July",'Lead Data'!$J14,0) -> 0 | J14: =IF('Lead Data'!$I14 = "August",'Lead Data'!$J14,0) -> 0 | K14: =IF('Lead Data'!$I14 = "September",'Lead Data'!$J14,0) -> 0 | L14: =IF('Lead Data'!$I14 = "October",'Lead Data'!$J14,0) -> 0 | M14: =IF('Lead Data'!$I14 = "November",'Lead Data'!$J14,0) -> 0 | N14: =IF('Lead Data'!$I14 = "December",'Lead Data'!$J14,0) -> 0
B15: =IF('Lead Data'!B15 <> "", 'Lead Data'!B15, "") | C15: =IF('Lead Data'!$I15 = "January",'Lead Data'!$J15,0) -> 0 | D15: =IF('Lead Data'!$I15 = "February",'Lead Data'!$J15,0) -> 0 | E15: =IF('Lead Data'!$I15 = "March",'Lead Data'!$J15,0) -> 0 | F15: =IF('Lead Data'!$I15 = "April",'Lead Data'!$J15,0) -> 0 | G15: =IF('Lead Data'!$I15 = "May",'Lead Data'!$J15,0) -> 0 | H15: =IF('Lead Data'!$I15 = "June",'Lead Data'!$J15,0) -> 0 | I15: =IF('Lead Data'!$I15 = "July",'Lead Data'!$J15,0) -> 0 | J15: =IF('Lead Data'!$I15 = "August",'Lead Data'!$J15,0) -> 0 | K15: =IF('Lead Data'!$I15 = "September",'Lead Data'!$J15,0) -> 0 | L15: =IF('Lead Data'!$I15 = "October",'Lead Data'!$J15,0) -> 0 | M15: =IF('Lead Data'!$I15 = "November",'Lead Data'!$J15,0) -> 0 | N15: =IF('Lead Data'!$I15 = "December",'Lead Data'!$J15,0) -> 0
B16: =IF('Lead Data'!B16 <> "", 'Lead Data'!B16, "") | C16: =IF('Lead Data'!$I16 = "January",'Lead Data'!$J16,0) -> 0 | D16: =IF('Lead Data'!$I16 = "February",'Lead Data'!$J16,0) -> 0 | E16: =IF('Lead Data'!$I16 = "March",'Lead Data'!$J16,0) -> 0 | F16: =IF('Lead Data'!$I16 = "April",'Lead Data'!$J16,0) -> 0 | G16: =IF('Lead Data'!$I16 = "May",'Lead Data'!$J16,0) -> 0 | H16: =IF('Lead Data'!$I16 = "June",'Lead Data'!$J16,0) -> 0 | I16: =IF('Lead Data'!$I16 = "July",'Lead Data'!$J16,0) -> 0 | J16: =IF('Lead Data'!$I16 = "August",'Lead Data'!$J16,0) -> 0 | K16: =IF('Lead Data'!$I16 = "September",'Lead Data'!$J16,0) -> 0 | L16: =IF('Lead Data'!$I16 = "October",'Lead Data'!$J16,0) -> 0 | M16: =IF('Lead Data'!$I16 = "November",'Lead Data'!$J16,0) -> 0 | N16: =IF('Lead Data'!$I16 = "December",'Lead Data'!$J16,0) -> 0
B17: =IF('Lead Data'!B17 <> "", 'Lead Data'!B17, "") | C17: =IF('Lead Data'!$I17 = "January",'Lead Data'!$J17,0) -> 0 | D17: =IF('Lead Data'!$I17 = "February",'Lead Data'!$J17,0) -> 0 | E17: =IF('Lead Data'!$I17 = "March",'Lead Data'!$J17,0) -> 0 | F17: =IF('Lead Data'!$I17 = "April",'Lead Data'!$J17,0) -> 0 | G17: =IF('Lead Data'!$I17 = "May",'Lead Data'!$J17,0) -> 0 | H17: =IF('Lead Data'!$I17 = "June",'Lead Data'!$J17,0) -> 0 | I17: =IF('Lead Data'!$I17 = "July",'Lead Data'!$J17,0) -> 0 | J17: =IF('Lead Data'!$I17 = "August",'Lead Data'!$J17,0) -> 0 | K17: =IF('Lead Data'!$I17 = "September",'Lead Data'!$J17,0) -> 0 | L17: =IF('Lead Data'!$I17 = "October",'Lead Data'!$J17,0) -> 0 | M17: =IF('Lead Data'!$I17 = "November",'Lead Data'!$J17,0) -> 0 | N17: =IF('Lead Data'!$I17 = "December",'Lead Data'!$J17,0) -> 0
B18: =IF('Lead Data'!B18 <> "", 'Lead Data'!B18, "") | C18: =IF('Lead Data'!$I18 = "January",'Lead Data'!$J18,0) -> 0 | D18: =IF('Lead Data'!$I18 = "February",'Lead Data'!$J18,0) -> 0 | E18: =IF('Lead Data'!$I18 = "March",'Lead Data'!$J18,0) -> 0 | F18: =IF('Lead Data'!$I18 = "April",'Lead Data'!$J18,0) -> 0 | G18: =IF('Lead Data'!$I18 = "May",'Lead Data'!$J18,0) -> 0 | H18: =IF('Lead Data'!$I18 = "June",'Lead Data'!$J18,0) -> 0 | I18: =IF('Lead Data'!$I18 = "July",'Lead Data'!$J18,0) -> 0 | J18: =IF('Lead Data'!$I18 = "August",'Lead Data'!$J18,0) -> 0 | K18: =IF('Lead Data'!$I18 = "September",'Lead Data'!$J18,0) -> 0 | L18: =IF('Lead Data'!$I18 = "October",'Lead Data'!$J18,0) -> 0 | M18: =IF('Lead Data'!$I18 = "November",'Lead Data'!$J18,0) -> 0 | N18: =IF('Lead Data'!$I18 = "December",'Lead Data'!$J18,0) -> 0
B19: =IF('Lead Data'!B19 <> "", 'Lead Data'!B19, "") | C19: =IF('Lead Data'!$I19 = "January",'Lead Data'!$J19,0) -> 0 | D19: =IF('Lead Data'!$I19 = "February",'Lead Data'!$J19,0) -> 0 | E19: =IF('Lead Data'!$I19 = "March",'Lead Data'!$J19,0) -> 0 | F19: =IF('Lead Data'!$I19 = "April",'Lead Data'!$J19,0) -> 0 | G19: =IF('Lead Data'!$I19 = "May",'Lead Data'!$J19,0) -> 0 | H19: =IF('Lead Data'!$I19 = "June",'Lead Data'!$J19,0) -> 0 | I19: =IF('Lead Data'!$I19 = "July",'Lead Data'!$J19,0) -> 0 | J19: =IF('Lead Data'!$I19 = "August",'Lead Data'!$J19,0) -> 0 | K19: =IF('Lead Data'!$I19 = "September",'Lead Data'!$J19,0) -> 0 | L19: =IF('Lead Data'!$I19 = "October",'Lead Data'!$J19,0) -> 0 | M19: =IF('Lead Data'!$I19 = "November",'Lead Data'!$J19,0) -> 0 | N19: =IF('Lead Data'!$I19 = "December",'Lead Data'!$J19,0) -> 0
... B31: =IF('Lead Data'!B31 <> "", 'Lead Data'!B31, "") | C31: =IF('Lead Data'!$I31 = "January",'Lead Data'!$J31,0) -> 0 | D31: =IF('Lead Data'!$I31 = "February",'Lead Data'!$J31,0) -> 0 | E31: =IF('Lead Data'!$I31 = "March",'Lead Data'!$J31,0) -> 0 | F31: =IF('Lead Data'!$I31 = "April",'Lead Data'!$J31,0) -> 0 | G31: =IF('Lead Data'!$I31 = "May",'Lead Data'!$J31,0) -> 0 | H31: =IF('Lead Data'!$I31 = "June",'Lead Data'!$J31,0) -> 0 | I31: =IF('Lead Data'!$I31 = "July",'Lead Data'!$J31,0) -> 0 | J31: =IF('Lead Data'!$I31 = "August",'Lead Data'!$J31,0) -> 0 | K31: =IF('Lead Data'!$I31 = "September",'Lead Data'!$J31,0) -> 0 | L31: =IF('Lead Data'!$I31 = "October",'Lead Data'!$J31,0) -> 0 | M31: =IF('Lead Data'!$I31 = "November",'Lead Data'!$J31,0) -> 0 | N31: =IF('Lead Data'!$I31 = "December",'Lead Data'!$J31,0) -> 0
B32: Total | C32: =SUM(C8:C31) -> 270000 | D32: =SUM(D8:D31) -> 20000 | E32: =SUM(E8:E31) -> 20000 | F32: =SUM(F8:F31) -> 0 | G32: =SUM(G8:G31) -> 0 | H32: =SUM(H8:H31) -> 0 | I32: =SUM(I8:I31) -> 0 | J32: =SUM(J8:J31) -> 0 | ... N32: =SUM(N8:N31) -> 0
B33: Cumulative Total | C33: =C32 -> 270000 | D33: =C33+D32 -> 290000 | E33: =D33+E32 -> 310000 | F33: =E33+F32 -> 310000 | G33: =F33+G32 -> 310000 | H33: =G33+H32 -> 310000 | I33: =H33+I32 -> 310000 | J33: =I33+J32 -> 310000 | K33: =J33+K32 -> 310000 | ... N33: =M33+N32 -> 310000
